BEGIN:VCALENDAR
VERSION:2.0
PRODID:-//Handmade In the Hunter Markets - ECPv4.8.1//NONSGML v1.0//EN
CALSCALE:GREGORIAN
METHOD:PUBLISH
X-WR-CALNAME:Handmade In the Hunter Markets
X-ORIGINAL-URL:http://handmadehuntermarkets.com.au
X-WR-CALDESC:Events for Handmade In the Hunter Markets
BEGIN:VEVENT
DTSTART;TZID=UTC+0:20190302T090000
DTEND;TZID=UTC+0:20190302T150000
DTSTAMP:20190226T203846
CREATED:20181203T120839Z
LAST-MODIFIED:20190211T121312Z
UID:1242-1551517200-1551538800@handmadehuntermarkets.com.au
SUMMARY:March 2
DESCRIPTION:
URL:http://handmadehuntermarkets.com.au/event/markets-4/
END:VEVENT
END:VCALENDAR